BEGIN:VCALENDAR
VERSION:2.0
PRODID:-//Prosperidad Social - ECPv5.7.0//NONSGML v1.0//EN
CALSCALE:GREGORIAN
METHOD:PUBLISH
X-WR-CALNAME:Prosperidad Social
X-ORIGINAL-URL:https://prosperidadsocial.gov.co
X-WR-CALDESC:Eventos para Prosperidad Social
BEGIN:VTIMEZONE
TZID:America/Bogota
BEGIN:STANDARD
TZOFFSETFROM:-0500
TZOFFSETTO:-0500
TZNAME:-05
DTSTART:20240101T000000
END:STANDARD
END:VTIMEZONE
BEGIN:VEVENT
DTSTART;VALUE=DATE:20240109
DTEND;VALUE=DATE:20240120
DTSTAMP:20260423T045201
CREATED:20240104T172018Z
LAST-MODIFIED:20240104T172018Z
UID:26912-1704758400-1705708799@prosperidadsocial.gov.co
SUMMARY:Reunión de socialización y seguimiento del  programa  Familias en su Tierra-FEST
DESCRIPTION:Dependencia responsable de la actividad de Participación Ciudadana: Dirección de Inclusión Productiva \nGIT encargado de la implementación de la actividad de Participación Ciudadana: GIT Intervenciones Rurales \nObjetivo de la actividad de Participación Ciudadana:  Hacer seguimiento junto con los grupos de valor y los grupos de interés \, al avance de los diferentes componentes del Programa\, al proceso de formación y acompañamiento técnico por parte del(la) Socio/Operador/Contratista\, a los compromisos adquiridos\, identificando las acciones de mejora a las que haya lugar. \nSe adelantará el Comité de Control Social No 3  en el marco de la ejecución del convenio 440 de 2022 correspondiente a la Zona 1 FEST IX\, en el cual se desarrolla como temática principal seguimiento a las actividades desarrolladas durante y al finalizar la implementación de la ruta operativa. \nLa Programación de Actividades de Participación Ciudadana está sujeta a modificaciones y actualizaciones\, cualquier inquietud puede presentarla al correo servicioalciudadano@prosperidadsocial.gov.co
URL:https://prosperidadsocial.gov.co/eventos/reunion-de-socializacion-y-seguimiento-del-programa-familias-en-su-tierra-fest-2/
END:VEVENT
END:VCALENDAR