BEGIN:VCALENDAR
VERSION:2.0
PRODID:-//Prosperidad Social - ECPv5.7.0//NONSGML v1.0//EN
CALSCALE:GREGORIAN
METHOD:PUBLISH
X-WR-CALNAME:Prosperidad Social
X-ORIGINAL-URL:https://prosperidadsocial.gov.co
X-WR-CALDESC:Eventos para Prosperidad Social
BEGIN:VTIMEZONE
TZID:America/Bogota
BEGIN:STANDARD
TZOFFSETFROM:-0500
TZOFFSETTO:-0500
TZNAME:-05
DTSTART:20240101T000000
END:STANDARD
END:VTIMEZONE
BEGIN:VEVENT
DTSTART;VALUE=DATE:20241016
DTEND;VALUE=DATE:20241017
DTSTAMP:20260423T225816
CREATED:20241015T102913Z
LAST-MODIFIED:20241015T102913Z
UID:33224-1729036800-1729123199@prosperidadsocial.gov.co
SUMMARY:Reto innovación abierta
DESCRIPTION:Propósito del encuentro: Construir conjuntamente con la ciudadanía en general y en particular con los grupos de valor y grupos de interés de Prosperidad Social respuestas que permitan solucionar las problemáticas identificadas por la Entidad. \nSe desarrollarán tres (3) Webinars en las fechas mencionadas mediante plataforma TEAMS\, en los cuales participarán actores externos y la ciudadanía en general\, para socializar la convocatoria de retos de innovación abierta 2024 que se encuentra abierta desde el 18 de septiembre y hasta el 18 de octubre de 2024\, en este espacio se aclararán dudas e inquietudes para la presentación de propuestas\, requisitos\, inscripciones y todo lo establecido en los Términos de Referencia. \nEl link de acceso a los Webinars es el siguiente: https://acortar.link/hLFOgh
URL:https://prosperidadsocial.gov.co/eventos/reto-innovacion-abierta/
ORGANIZER;CN="GIT%20Innovaci%C3%B3n%20Social":MAILTO:innovacion@prosperidadsocial.gov.co
END:VEVENT
END:VCALENDAR