BEGIN:VCALENDAR
VERSION:2.0
PRODID:-//Prosperidad Social - ECPv5.7.0//NONSGML v1.0//EN
CALSCALE:GREGORIAN
METHOD:PUBLISH
X-WR-CALNAME:Prosperidad Social
X-ORIGINAL-URL:https://prosperidadsocial.gov.co
X-WR-CALDESC:Eventos para Prosperidad Social
BEGIN:VTIMEZONE
TZID:America/Bogota
BEGIN:STANDARD
TZOFFSETFROM:-0500
TZOFFSETTO:-0500
TZNAME:-05
DTSTART:20250101T000000
END:STANDARD
END:VTIMEZONE
BEGIN:VEVENT
DTSTART;TZID=America/Bogota:20250424T140000
DTEND;TZID=America/Bogota:20250424T170000
DTSTAMP:20260420T123533
CREATED:20250423T204438Z
LAST-MODIFIED:20250423T210334Z
UID:37524-1745503200-1745514000@prosperidadsocial.gov.co
SUMMARY:INVITACIÓN A RENDICIÓN DE CUENTAS
DESCRIPTION:El director de Prosperidad Social\, Gustavo Bolívar Moreno\, invita a la transmisión de la Rendición de Cuentas Institucional\, gestión 2024\, desde la plaza principal de Soledad\, Atlántico.\nFecha: jueves 24 de abril de 2025.\nHora: 2:00 p. m.\n\nhttps://www.facebook.com/share/1A1ifEEbQk/?mibextid=wwXIfr
URL:https://prosperidadsocial.gov.co/eventos/rendicion-de-cuentas/
END:VEVENT
END:VCALENDAR