BEGIN:VCALENDAR
VERSION:2.0
PRODID:-//Prosperidad Social - ECPv5.7.0//NONSGML v1.0//EN
CALSCALE:GREGORIAN
METHOD:PUBLISH
X-WR-CALNAME:Prosperidad Social
X-ORIGINAL-URL:https://prosperidadsocial.gov.co
X-WR-CALDESC:Eventos para Prosperidad Social
BEGIN:VTIMEZONE
TZID:America/Bogota
BEGIN:STANDARD
TZOFFSETFROM:-0500
TZOFFSETTO:-0500
TZNAME:-05
DTSTART:20250101T000000
END:STANDARD
END:VTIMEZONE
BEGIN:VEVENT
DTSTART;VALUE=DATE:20251014
DTEND;VALUE=DATE:20251015
DTSTAMP:20260420T202432
CREATED:20251014T150810Z
LAST-MODIFIED:20251014T150810Z
UID:42469-1760400000-1760486399@prosperidadsocial.gov.co
SUMMARY:Promoviendo Prosperidad en Nuestros Territorios
DESCRIPTION:Oficina de Gestión Regional \nObjetivo de la actividad: Realizar acciones a través de las Gerencias Regionales para la socialización y promoción de los programas y oferta institucional en los diferentes territorios del país. \nLa Programación de Actividades de Participación Ciudadana está sujeta a modificaciones y actualizaciones\, cualquier inquietud puede presentarla al correo servicioalciudadano@prosperidadsocial.gov.co
URL:https://prosperidadsocial.gov.co/eventos/promoviendo-prosperidad-en-nuestros-territorios-18/
LOCATION:Santander\, Colombia
END:VEVENT
END:VCALENDAR