BEGIN:VCALENDAR
VERSION:2.0
PRODID:-//Prosperidad Social - ECPv5.7.0//NONSGML v1.0//EN
CALSCALE:GREGORIAN
METHOD:PUBLISH
X-WR-CALNAME:Prosperidad Social
X-ORIGINAL-URL:https://prosperidadsocial.gov.co
X-WR-CALDESC:Eventos para Prosperidad Social
BEGIN:VTIMEZONE
TZID:America/Bogota
BEGIN:STANDARD
TZOFFSETFROM:-0500
TZOFFSETTO:-0500
TZNAME:-05
DTSTART:20250101T000000
END:STANDARD
END:VTIMEZONE
BEGIN:VEVENT
DTSTART;VALUE=DATE:20250414
DTEND;VALUE=DATE:20250415
DTSTAMP:20260420T123540
CREATED:20250414T144541Z
LAST-MODIFIED:20250414T144541Z
UID:37450-1744588800-1744675199@prosperidadsocial.gov.co
SUMMARY:Mesa de articulación territorial
DESCRIPTION:Dependencia responsable de la actividad de Participación Ciudadana: Dirección para la soberanía alimentaria \nGIT encargado de la implementación de la actividad de Participación Ciudadana: Atención Integral con Enfoque Diferencial \nObjetivo de la actividad de Participación Ciudadana El objetivo de este espacio es desarrollar estrategias de articulación interinstitucional orientadas a resolver necesidades propias del territorio propendiendo por la sostenibilidad y apalancamiento de los proyectos integrales implementados a partir de la interacción de los representantes de las comunidades atendidas. Convenio 686-2023 las entidades territoriales\, así como con aliados estratégicos públicos y privados en territorio identificados en el proceso de prealistamiento del programa y durante la implementación de este en cada territorio colectivo. \nEn las mesas de articulación territorial se propone formalizar y hacer seguimiento a los acuerdos de cooperación que se planteen entre los actores locales y regionales presentes en el territorio\, favoreciendo la puesta en marcha de ejercicios de gestión comunitaria\, que complementen las acciones del comité de control social y favorezcan la implementación de la herramienta de articulación denominada plan de gestión comunitaria que posteriormente se describirá en este documento.”
URL:https://prosperidadsocial.gov.co/eventos/mesa-de-articulacion-territorial/
LOCATION:Puerto Concordia\, Meta\, Colombia
END:VEVENT
END:VCALENDAR