BEGIN:VCALENDAR
VERSION:2.0
PRODID:-//Prosperidad Social - ECPv5.7.0//NONSGML v1.0//EN
CALSCALE:GREGORIAN
METHOD:PUBLISH
X-WR-CALNAME:Prosperidad Social
X-ORIGINAL-URL:https://prosperidadsocial.gov.co
X-WR-CALDESC:Eventos para Prosperidad Social
BEGIN:VTIMEZONE
TZID:America/Bogota
BEGIN:STANDARD
TZOFFSETFROM:-0500
TZOFFSETTO:-0500
TZNAME:-05
DTSTART:20250101T000000
END:STANDARD
END:VTIMEZONE
BEGIN:VEVENT
DTSTART;VALUE=DATE:20250820
DTEND;VALUE=DATE:20250821
DTSTAMP:20260420T134006
CREATED:20250814T165707Z
LAST-MODIFIED:20250814T165707Z
UID:40733-1755648000-1755734399@prosperidadsocial.gov.co
SUMMARY:Mesa de articulación territorial - MAT
DESCRIPTION:Dependencia responsable de la actividad de Participación Ciudadana: Dirección para la Soberanía Alimentaria \nGIT encargado de la implementación de la actividad de Participación Ciudadana: Atención Integral con Enfoque Diferencial \nObjetivo de la actividad de Participación Ciudadana: Desarrollar estrategias de articulación interinstitucional orientadas a resolver necesidades propias del territorio\, promoviendo la sostenibilidad y el apalancamiento de los proyectos integrales implementados. Esto se logra mediante la interacción de los representantes de las comunidades atendidas con las entidades territoriales\, así como con aliados estratégicos públicos y privados identificados en el proceso de prealistamiento del programa y durante la implementación de este en cada territorio colectivo. \nInvitación especial: La MAT es un espacio clave para planificar y coordinar esfuerzos entre comunidades\, instituciones y aliados\, asegurando que los proyectos respondan a las necesidades reales del territorio y tengan un impacto sostenible. \nLugar: Quibdó – Chocó \nNota: Estas actividades se realizan de manera presencial. La programación de actividades de participación ciudadana está sujeta a modificaciones. Para más información\, escriba a: servicioalciudadano@prosperidadsocial.gov.co
URL:https://prosperidadsocial.gov.co/eventos/mesa-de-articulacion-territorial-mat/
END:VEVENT
END:VCALENDAR