BEGIN:VCALENDAR
VERSION:2.0
PRODID:-//Prosperidad Social - ECPv5.7.0//NONSGML v1.0//EN
CALSCALE:GREGORIAN
METHOD:PUBLISH
X-WR-CALNAME:Prosperidad Social
X-ORIGINAL-URL:https://prosperidadsocial.gov.co
X-WR-CALDESC:Eventos para Prosperidad Social
BEGIN:VTIMEZONE
TZID:America/Bogota
BEGIN:STANDARD
TZOFFSETFROM:-0500
TZOFFSETTO:-0500
TZNAME:-05
DTSTART:20250101T000000
END:STANDARD
END:VTIMEZONE
BEGIN:VEVENT
DTSTART;VALUE=DATE:20250317
DTEND;VALUE=DATE:20250318
DTSTAMP:20260420T083236
CREATED:20250326T201451Z
LAST-MODIFIED:20250326T201451Z
UID:36802-1742169600-1742255999@prosperidadsocial.gov.co
SUMMARY:Facebook - Live: Consulta Popular
DESCRIPTION:Objetivo de la actividad: Informar a los beneficiarios de los programas de Prosperidad Social qué es una consulta popular\, cómo funciona y cuál es el papel de la ciudadanía en este mecanismo de participación. \nDependencia a cargo:  Oficina de Relacionamiento con el Ciudadano \nLa Programación de Actividades de Participación Ciudadana está sujeta a modificaciones y actualizaciones\, cualquier inquietud puede presentarla al correo servicioalciudadano@prosperidadsocial.gov.co
URL:https://prosperidadsocial.gov.co/eventos/facebook-live-consulta-popular/
END:VEVENT
END:VCALENDAR