BEGIN:VCALENDAR
VERSION:2.0
PRODID:-//Prosperidad Social - ECPv5.7.0//NONSGML v1.0//EN
CALSCALE:GREGORIAN
METHOD:PUBLISH
X-WR-CALNAME:Prosperidad Social
X-ORIGINAL-URL:https://prosperidadsocial.gov.co
X-WR-CALDESC:Eventos para Prosperidad Social
BEGIN:VTIMEZONE
TZID:America/Bogota
BEGIN:STANDARD
TZOFFSETFROM:-0500
TZOFFSETTO:-0500
TZNAME:-05
DTSTART:20250101T000000
END:STANDARD
END:VTIMEZONE
BEGIN:VEVENT
DTSTART;VALUE=DATE:20250801
DTEND;VALUE=DATE:20250901
DTSTAMP:20260420T123846
CREATED:20250814T164635Z
LAST-MODIFIED:20250814T164635Z
UID:40722-1754006400-1756684799@prosperidadsocial.gov.co
SUMMARY:Encuentros Comunitarios de Fortalecimiento del Tejido Social
DESCRIPTION:Dependencia responsable de la actividad de Participación Ciudadana: Dirección de Acompañamiento Familiar y Comunitario \nGIT encargado de la implementación de la actividad de Participación Ciudadana: Gestión Familiar y Comunitario \nObjetivo de la actividad de Participación Ciudadana:Crear un espacio de consolidación de relaciones de confianza\, solidaridad y reciprocidad entre los participantes de los Programas de Transferencias Monetarias\, promoviendo el trabajo conjunto y el desarrollo de proyectos comunitarios que fortalezcan el tejido social. \nInvitación especial:Estos encuentros son una oportunidad para unirse como comunidad\, compartir saberes\, construir proyectos y fortalecer lazos que impulsan el bienestar colectivo. ¡La fuerza del cambio nace de la unión de las personas! \nLugar: 154 municipios del país pertenecientes a 21 regionales de Prosperidad Social (Amazonas\, Antioquia\, Arauca\, Atlántico\, Bolívar\, Boyacá\, Casanare\, Cesar\, Chocó\, Córdoba\, Cundinamarca\, Huila\, Magdalena Medio\, Meta\, Nariño\, Norte de Santander\, Santander\, Sucre\, Valle del Cauca\, Vaupés y Vichada) \nNota:La programación se presenta con corte al 6 de agosto de 2025 y puede estar sujeta a cambios. El plazo de realización de esta actividad es hasta el 30 de septiembre de 2025\, dado que desde el mes de octubre no se desarrollarán espacios de participación comunitaria por medidas preventivas de blindaje electoral. Para más información\, escriba a: servicioalciudadano@prosperidadsocial.gov.co
URL:https://prosperidadsocial.gov.co/eventos/encuentros-comunitarios-de-fortalecimiento-del-tejido-social/
END:VEVENT
END:VCALENDAR