BEGIN:VCALENDAR
VERSION:2.0
PRODID:-//Prosperidad Social - ECPv5.7.0//NONSGML v1.0//EN
CALSCALE:GREGORIAN
METHOD:PUBLISH
X-WR-CALNAME:Prosperidad Social
X-ORIGINAL-URL:https://prosperidadsocial.gov.co
X-WR-CALDESC:Eventos para Prosperidad Social
BEGIN:VTIMEZONE
TZID:America/Bogota
BEGIN:STANDARD
TZOFFSETFROM:-0500
TZOFFSETTO:-0500
TZNAME:-05
DTSTART:20250101T000000
END:STANDARD
END:VTIMEZONE
BEGIN:VEVENT
DTSTART;VALUE=DATE:20250326
DTEND;VALUE=DATE:20250406
DTSTAMP:20260420T103748
CREATED:20250414T142907Z
LAST-MODIFIED:20250414T142907Z
UID:37438-1742947200-1743897599@prosperidadsocial.gov.co
SUMMARY:Consulta Temas de Interés para la Rendición de Cuentas Sectorial
DESCRIPTION:Dependencia responsable de la actividad de Participación Ciudadana: Oficina Asesora de Planeación \nGIT encargado de la implementación de la actividad de Participación Ciudadana: GIT de Mejoramiento Continuo \nObjetivo de la actividad de Participación Ciudadana: Conocer los temas sobre los cuales los ciudadanos están interesados en que las Entidades del Sector rindan cuentas e incluirlos en los eventos e informes de Rendición de Cuentas. \nLa Programación de Actividades de Participación Ciudadana está sujeta a modificaciones y actualizaciones\, cualquier inquietud puede presentarla al correo servicioalciudadano@prosperidadsocial.gov.co
URL:https://prosperidadsocial.gov.co/eventos/consulta-temas-de-interes-para-la-rendicion-de-cuentas-sectorial/
END:VEVENT
END:VCALENDAR