BEGIN:VCALENDAR
VERSION:2.0
PRODID:-//Prosperidad Social - ECPv5.7.0//NONSGML v1.0//EN
CALSCALE:GREGORIAN
METHOD:PUBLISH
X-WR-CALNAME:Prosperidad Social
X-ORIGINAL-URL:https://prosperidadsocial.gov.co
X-WR-CALDESC:Eventos para Prosperidad Social
BEGIN:VTIMEZONE
TZID:America/Bogota
BEGIN:STANDARD
TZOFFSETFROM:-0500
TZOFFSETTO:-0500
TZNAME:-05
DTSTART:20240101T000000
END:STANDARD
END:VTIMEZONE
BEGIN:VEVENT
DTSTART;VALUE=DATE:20240101
DTEND;VALUE=DATE:20240120
DTSTAMP:20260423T064532
CREATED:20240104T171553Z
LAST-MODIFIED:20240104T171553Z
UID:26910-1704067200-1705708799@prosperidadsocial.gov.co
SUMMARY:Construcción del Plan de Acción Institucional
DESCRIPTION:Dependencia responsable de la actividad de Participación Ciudadana: Oficina Asesora de Planeación \nGIT encargado de la implementación de la actividad de Participación Ciudadana: GIT Gestión de Proyectos y Presupuestos \nObjetivo de la actividad de Participación Ciudadana:  Presentar a los grupos de valor y grupos de interés el plan de acción anual de Prosperidad Social para recibir sus aportes. \nLa ciudadanía interesada en participar lo podrá hacer en el siguiente enlace: https://prosperidadsocial.gov.co/participa/planeacion-y-presupuesto-participativo/ \nLa Programación de Actividades de Participación Ciudadana está sujeta a modificaciones y actualizaciones\, cualquier inquietud puede presentarla al correo servicioalciudadano@prosperidadsocial.gov.co
URL:https://prosperidadsocial.gov.co/eventos/construccion-del-plan-de-accion-institucional-3/
END:VEVENT
END:VCALENDAR