BEGIN:VCALENDAR
VERSION:2.0
PRODID:-//Prosperidad Social - ECPv5.7.0//NONSGML v1.0//EN
CALSCALE:GREGORIAN
METHOD:PUBLISH
X-WR-CALNAME:Prosperidad Social
X-ORIGINAL-URL:https://prosperidadsocial.gov.co
X-WR-CALDESC:Eventos para Prosperidad Social
BEGIN:VTIMEZONE
TZID:America/Bogota
BEGIN:STANDARD
TZOFFSETFROM:-0500
TZOFFSETTO:-0500
TZNAME:-05
DTSTART:20250101T000000
END:STANDARD
END:VTIMEZONE
BEGIN:VEVENT
DTSTART;VALUE=DATE:20250416
DTEND;VALUE=DATE:20250417
DTSTAMP:20260420T123502
CREATED:20250414T145517Z
LAST-MODIFIED:20250414T145517Z
UID:37463-1744761600-1744847999@prosperidadsocial.gov.co
SUMMARY:Comités de Control Social
DESCRIPTION:Dependencia responsable de la actividad de Participación Ciudadana: Dirección para la Soberanía Alimentaria \nGIT encargado de la implementación de la actividad de Participación Ciudadana: Atención Integral con Enfoque Diferencial \nObjetivo de la actividad de Participación Ciudadana: Los Comités de Control Social son espacios generados por el programa para facilitar el diálogo directo entre los participantes y Prosperidad Social\, para acompañar la implementación del programa ejerciendo un nivel de participación de control social\, partiendo de los lineamientos establecidos por el equipo de participación ciudadana de Prosperidad Social Contrato 1323 de 2024. \nLa Programación de Actividades de Participación Ciudadana está sujeta a modificaciones y actualizaciones\, cualquier inquietud puede presentarla al correo servicioalciudadano@prosperidadsocial.gov.co
URL:https://prosperidadsocial.gov.co/eventos/comites-de-control-social/
LOCATION:Roberto Payan\, Narino\, Colombia
END:VEVENT
END:VCALENDAR