BEGIN:VCALENDAR
VERSION:2.0
PRODID:-//Prosperidad Social - ECPv5.7.0//NONSGML v1.0//EN
CALSCALE:GREGORIAN
METHOD:PUBLISH
X-WR-CALNAME:Prosperidad Social
X-ORIGINAL-URL:https://prosperidadsocial.gov.co
X-WR-CALDESC:Eventos para Prosperidad Social
BEGIN:VTIMEZONE
TZID:America/Bogota
BEGIN:STANDARD
TZOFFSETFROM:-0500
TZOFFSETTO:-0500
TZNAME:-05
DTSTART:20250101T000000
END:STANDARD
END:VTIMEZONE
BEGIN:VEVENT
DTSTART;VALUE=DATE:20250927
DTEND;VALUE=DATE:20250928
DTSTAMP:20260420T133944
CREATED:20250927T143324Z
LAST-MODIFIED:20250927T143324Z
UID:41811-1758931200-1759017599@prosperidadsocial.gov.co
SUMMARY:Comité de Control Social IRACA
DESCRIPTION:Dirección para la Soberanía Alimentaria \nGIT Atención Integral con Enfoque Diferencial \nObjetivo de la actividad: Promover el diálogo directo y el seguimiento local entre autoridades étnicas\, representantes (10%) de los hogares participantes y Prosperidad Social\, para acompañar la implementación del programa con enfoque en control social\, transparencia\, participación\, validación y corresponsabilidad. \nLa Programación de Actividades de Participación Ciudadana está sujeta a modificaciones y actualizaciones\, cualquier inquietud puede presentarla al correo servicioalciudadano@prosperidadsocial.gov.co
URL:https://prosperidadsocial.gov.co/eventos/comite-de-control-social-iraca-8/
LOCATION:Dibulla\, La Guajira\, Colombia
END:VEVENT
END:VCALENDAR