BEGIN:VCALENDAR
VERSION:2.0
PRODID:-//Prosperidad Social - ECPv5.7.0//NONSGML v1.0//EN
CALSCALE:GREGORIAN
METHOD:PUBLISH
X-WR-CALNAME:Prosperidad Social
X-ORIGINAL-URL:https://prosperidadsocial.gov.co
X-WR-CALDESC:Eventos para Prosperidad Social
BEGIN:VTIMEZONE
TZID:America/Bogota
BEGIN:STANDARD
TZOFFSETFROM:-0500
TZOFFSETTO:-0500
TZNAME:-05
DTSTART:20240101T000000
END:STANDARD
END:VTIMEZONE
BEGIN:VEVENT
DTSTART;TZID=America/Bogota:20240219T080000
DTEND;TZID=America/Bogota:20240219T170000
DTSTAMP:20260423T052832
CREATED:20240301T204232Z
LAST-MODIFIED:20240301T204232Z
UID:27378-1708329600-1708362000@prosperidadsocial.gov.co
SUMMARY:AV3; 576 DPS 2021; Sabanagrande\, Atlántico
DESCRIPTION:Dependencia responsable de la actividad de Participación Ciudadana: Dirección de Infraestructura Social y Hábitat. \nGIT encargado de la implementación de la actividad de Participación Ciudadana: GIT Gestión Social. \nObjetivo de la actividad de Participación Ciudadana: Posibilitar que los ciudadanos ejerzan la participación ciudadana a partir del seguimiento\, control y decisión en los programas\, proyectos\, servicios u obras que se ejecutan con recursos públicos. \nPara la Dirección de Infraestructura Social y Hábitat son una herramienta que busca efectuar un seguimiento visible y efectivo a la inversión pública\, mediante el control social a los proyectos. \nTipo de auditoría; número de convenio; lugares en los que se desarrollarán las actividades programadas en el mes: AV3; 576 DPS 2021; Sabanagrande\, Atlántico \nLa Programación de Actividades de Participación Ciudadana está sujeta a modificaciones y actualizaciones\, cualquier inquietud puede presentarla al correo servicioalciudadano@prosperidadsocial.gov.co \n 
URL:https://prosperidadsocial.gov.co/eventos/av3-576-dps-2021-sabanagrande-atlantico/
LOCATION:sabanagrande\, Atlántico
END:VEVENT
END:VCALENDAR