BEGIN:VCALENDAR
VERSION:2.0
PRODID:-//Prosperidad Social - ECPv5.7.0//NONSGML v1.0//EN
CALSCALE:GREGORIAN
METHOD:PUBLISH
X-WR-CALNAME:Prosperidad Social
X-ORIGINAL-URL:https://prosperidadsocial.gov.co
X-WR-CALDESC:Eventos para Prosperidad Social
BEGIN:VTIMEZONE
TZID:America/Bogota
BEGIN:STANDARD
TZOFFSETFROM:-0500
TZOFFSETTO:-0500
TZNAME:-05
DTSTART:20250101T000000
END:STANDARD
END:VTIMEZONE
BEGIN:VEVENT
DTSTART;VALUE=DATE:20250225
DTEND;VALUE=DATE:20250226
DTSTAMP:20260420T083402
CREATED:20250213T154137Z
LAST-MODIFIED:20250213T154137Z
UID:35521-1740441600-1740527999@prosperidadsocial.gov.co
SUMMARY:Auditoria Visible 3 ARAUCA - Arauca convenio 586 de 2022
DESCRIPTION:Dependencia responsable de la actividad de Participación Ciudadana: Dirección de Infraestructura Social y Hábitat. \nGIT encargado de la implementación de la actividad de Participación Ciudadana: GIT Gestión Social. \nObjetivo de la actividad de Participación Ciudadana: Posibilitar que los ciudadanos ejerzan la participación ciudadana a partir del seguimiento\, control y decisión en los programas\, proyectos\, servicios u obras que se ejecutan con recursos públicos. \nPara la Dirección de Infraestructura Social y Hábitat son una herramienta que busca efectuar un seguimiento visible y efectivo a la inversión pública\, mediante el control social a los proyectos. \nTipo de auditoría; número de convenio; lugares en los que se desarrollarán las actividades programadas en el mes: Auditoria Visible 3 ARAUCA – Arauca convenio 586 de 2022 \nLa Programación de Actividades de Participación Ciudadana está sujeta a modificaciones y actualizaciones\, cualquier inquietud puede presentarla al correo servicioalciudadano@prosperidadsocial.gov.co \n 
URL:https://prosperidadsocial.gov.co/eventos/auditoria-visible-3-arauca-arauca-convenio-586-de-2022/
LOCATION:Arauca\, Arauca\, Colombia
ORGANIZER;CN="Direcci%C3%B3n%20de%20Infraestructura%20Social%20y%20H%C3%A1bitat":MAILTO:servicioalciudadano@prosperidadsocial.gov.co
END:VEVENT
END:VCALENDAR