BEGIN:VCALENDAR
VERSION:2.0
PRODID:-//Prosperidad Social - ECPv5.7.0//NONSGML v1.0//EN
CALSCALE:GREGORIAN
METHOD:PUBLISH
X-WR-CALNAME:Prosperidad Social
X-ORIGINAL-URL:https://prosperidadsocial.gov.co
X-WR-CALDESC:Eventos para Prosperidad Social
BEGIN:VTIMEZONE
TZID:America/Bogota
BEGIN:STANDARD
TZOFFSETFROM:-0500
TZOFFSETTO:-0500
TZNAME:-05
DTSTART:20230101T000000
END:STANDARD
END:VTIMEZONE
BEGIN:VEVENT
DTSTART;VALUE=DATE:20231211
DTEND;VALUE=DATE:20231212
DTSTAMP:20260423T165920
CREATED:20231204T220545Z
LAST-MODIFIED:20231204T220545Z
UID:26631-1702252800-1702339199@prosperidadsocial.gov.co
SUMMARY:Auditoría Visible 3; 583 DPS 2022; Tado Choco
DESCRIPTION:Dependencia responsable de la actividad de Participación Ciudadana: Dirección de Infraestructura Social y Hábitat. \n  \nGIT encargado de la implementación de la actividad de Participación Ciudadana: GIT Gestión Social. \n  \nObjetivo de la actividad de Participación Ciudadana: Posibilitar que los ciudadanos ejerzan la participación ciudadana a partir del seguimiento\, control y decisión en los programas\, proyectos\, servicios u obras que se ejecutan con recursos públicos. \n  \nPara la Dirección de Infraestructura Social y Hábitat son una herramienta que busca efectuar un seguimiento visible y efectivo a la inversión pública\, mediante el control social a los proyectos. \n  \nTipo de auditoría; número de convenio; lugares en los que  se desarrollarán las actividades programadas en el mes: Auditoría Visible 3; 583 DPS 2022; Tado Choco \n  \nLa Programación de Actividades de Participación Ciudadana está sujeta a modificaciones y actualizaciones\, cualquier inquietud puede presentarla al correo servicioalciudadano@prosperidadsocial.gov.co \n 
URL:https://prosperidadsocial.gov.co/eventos/auditoria-visible-3-583-dps-2022-tado-choco/
LOCATION:Tado\, Choco\, Colombia
END:VEVENT
END:VCALENDAR