BEGIN:VCALENDAR
VERSION:2.0
PRODID:-//Prosperidad Social - ECPv5.7.0//NONSGML v1.0//EN
CALSCALE:GREGORIAN
METHOD:PUBLISH
X-WR-CALNAME:Prosperidad Social
X-ORIGINAL-URL:https://prosperidadsocial.gov.co
X-WR-CALDESC:Eventos para Prosperidad Social
BEGIN:VTIMEZONE
TZID:America/Bogota
BEGIN:STANDARD
TZOFFSETFROM:-0500
TZOFFSETTO:-0500
TZNAME:-05
DTSTART:20250101T000000
END:STANDARD
END:VTIMEZONE
BEGIN:VEVENT
DTSTART;VALUE=DATE:20251015
DTEND;VALUE=DATE:20251016
DTSTAMP:20260420T202126
CREATED:20251014T151952Z
LAST-MODIFIED:20251014T151952Z
UID:42489-1760486400-1760572799@prosperidadsocial.gov.co
SUMMARY:Auditoría visible 2
DESCRIPTION:Dirección de acompañamiento Familiar y Comunitario \nGIT: Acompañamiento social \n  \nTexto 2 \nPosibilitar que los ciudadanos ejerzan la participación ciudadana a partir de la rendición de cuentas en la fase de seguimiento de los programas\, proyectos\, servicios u obras que se ejecutan con recursos públicos. Igualmente\, la Auditoría visible No.2 permite presentar a la comunidad el informe de avance del proyecto\, en sus componentes técnico\, social y contractual; informar sobre modificaciones y eventualidades\, y hacer seguimiento a los compromisos. \nTambién\, en la Auditoría Visible 2 se genera un espacio para que los asistentes a los foros expresen sus inquitudes\, observaciones\, quejas y/o reclamos sobre la ejecución de las obras. En estos espacios\, las entidades\, contratistas\, Interventorías o quien tenga la obligación contractual deben brindar respuesta suficiente y de fondo para garantizar la transparencia en la ejecución del proyecto. Para tal fin mes a mes y en el marco de las Auditorías visibles se realiza seguimiento a los compromisos pactados. \nPara la Dirección de Acompañamiento Familiar y Comunitario\, las Auditorias Visibles son una herramienta que busca lograr la participación ciudadana y el control social a la ejecución de proyectos de inversión pública con el fin de hacerlos transparentes y eficientes\, involucrando directamente a los beneficiarios. \nLa Programación de Actividades de Participación Ciudadana está sujeta a modificaciones y actualizaciones\, cualquier inquietud puede presentarla al correo servicioalciudadano@prosperidadsocial.gov.co \n 
URL:https://prosperidadsocial.gov.co/eventos/auditoria-visible-2/
LOCATION:Cucutilla\, Norte de Santander\, Colombia
END:VEVENT
END:VCALENDAR