BEGIN:VCALENDAR
VERSION:2.0
PRODID:-//Prosperidad Social - ECPv5.7.0//NONSGML v1.0//EN
CALSCALE:GREGORIAN
METHOD:PUBLISH
X-WR-CALNAME:Prosperidad Social
X-ORIGINAL-URL:https://prosperidadsocial.gov.co
X-WR-CALDESC:Eventos para Prosperidad Social
BEGIN:VTIMEZONE
TZID:America/Bogota
BEGIN:STANDARD
TZOFFSETFROM:-0500
TZOFFSETTO:-0500
TZNAME:-05
DTSTART:20260101T000000
END:STANDARD
END:VTIMEZONE
BEGIN:VEVENT
DTSTART;VALUE=DATE:20260219
DTEND;VALUE=DATE:20260220
DTSTAMP:20260421T014728
CREATED:20260217T192859Z
LAST-MODIFIED:20260217T192859Z
UID:54962-1771459200-1771545599@prosperidadsocial.gov.co
SUMMARY:Auditoría visible 1
DESCRIPTION:Objetivo de la actividad: Informar a la comunidad sobre los componentes técnico\, social y contractual del proyecto\, y promover la conformación o ratificación de la veeduría ciudadana. \nLa Programación de Actividades de Participación Ciudadana está sujeta a modificaciones y actualizaciones\, cualquier inquietud puede presentarla al correo servicioalciudadano@prosperidadsocial.gov.co
URL:https://prosperidadsocial.gov.co/eventos/auditoria-visible-1-5/
LOCATION:Tumaco\, nariño\, Colombia
ORGANIZER;CN="Direcci%C3%B3n%20de%20Infraestructura%20Social%20y%20H%C3%A1bitat":MAILTO:servicioalciudadano@prosperidadsocial.gov.co
END:VEVENT
END:VCALENDAR