BEGIN:VCALENDAR
VERSION:2.0
PRODID:-//Prosperidad Social - ECPv5.7.0//NONSGML v1.0//EN
CALSCALE:GREGORIAN
METHOD:PUBLISH
X-WR-CALNAME:Prosperidad Social
X-ORIGINAL-URL:https://prosperidadsocial.gov.co
X-WR-CALDESC:Eventos para Prosperidad Social
BEGIN:VTIMEZONE
TZID:America/Bogota
BEGIN:STANDARD
TZOFFSETFROM:-0500
TZOFFSETTO:-0500
TZNAME:-05
DTSTART:20250101T000000
END:STANDARD
END:VTIMEZONE
BEGIN:VEVENT
DTSTART;VALUE=DATE:20250411
DTEND;VALUE=DATE:20250412
DTSTAMP:20260420T103651
CREATED:20250414T143151Z
LAST-MODIFIED:20250414T143151Z
UID:37440-1744329600-1744415999@prosperidadsocial.gov.co
SUMMARY:Audiencia Pública Sectorial de Rendición de Cuentas
DESCRIPTION:Dependencia responsable de la actividad de Participación Ciudadana: Oficina Asesora de Planeación \nGIT encargado de la implementación de la actividad de Participación Ciudadana: GIT de Mejoramiento Continuo \nObjetivo de la actividad de Participación Ciudadana: Rendir cuentas a la ciudadanía sobre la gestión institucional y sectorial\, el cumplimiento de metas\, la ejecución del presupuesto\, el cumplimiento de los ODS y la garantía y protección de los derechos humanos. \nLa Programación de Actividades de Participación Ciudadana está sujeta a modificaciones y actualizaciones\, cualquier inquietud puede presentarla al correo servicioalciudadano@prosperidadsocial.gov.co
URL:https://prosperidadsocial.gov.co/eventos/audiencia-publica-sectorial-de-rendicion-de-cuentas/
END:VEVENT
END:VCALENDAR